BEGIN:VCALENDAR
PRODID:NingEventWidget-v1
VERSION:2.0
METHOD:PUBLISH
BEGIN:VTIMEZONE
TZID:America/New_York
X-LIC-LOCATION:America/New_York
BEGIN:DAYLIGHT
TZOFFSETFROM:-0500
TZOFFSETTO:-0400
TZNAME:EDT
DTSTART:19700308T020000
RRULE:FREQ=YEARLY;BYMONTH=3;BYDAY=2SU
END:DAYLIGHT
BEGIN:STANDARD
TZOFFSETFROM:-0400
TZOFFSETTO:-0500
TZNAME:EST
DTSTART:19701101T020000
RRULE:FREQ=YEARLY;BYMONTH=11;BYDAY=1SU
END:STANDARD
END:VTIMEZONE
BEGIN:VEVENT
UID:2129360:Event:47660
DTSTAMP:20260422T044435Z
SUMMARY:Orlando Wetlands Festival
DESCRIPTION:Details at http://nbbd.com/festivals/OrlandoWetlands/inde
 x.html\n and a story in the Orlando Sentinel here: \nhttp://www.orla
 ndosentinel.com/multimedia/os-back-to-the-wetlands-fla360,0,6159546.st
 ory\n\nThis is a nice gathering east of Orlando. There are lots of bir
 ds and beautiful sights to see. \n\n\n\nFor more information visit ht
 tps://www.zoobird.com/events/orlando-wetlands-festival
DTSTART;TZID=America/New_York:20120218T000000
DTEND;TZID=America/New_York:20120218T235900
CATEGORIES:festival
LOCATION:Ft Christmas Park, Orlando, FL
WEBSITE:http://nbbd.com/godo/FortChristmas/
URL:http://nbbd.com/godo/FortChristmas/
CONTACT:
ORGANIZER:Wetlands Festival
ATTACH;FMTTYPE="image/jpeg":http://storage.ning.com/topology/rest/1.0/
 file/get/2561887798?profile=original
ATTENDEE;ROLE=REQ-PARTICIPANT;PARTSTAT=ACCEPTED;RSVP=TRUE;CN="Michael 
 Levin":https://www.zoobird.com/profile/MichaelLevin
END:VEVENT
END:VCALENDAR
